BEGIN:VCALENDAR
VERSION:2.0
PRODID:-//hacksw/handcal//NONSGML v1.0//EN
CALSCALE:GREGORIAN
BEGIN:VEVENT
LOCATION:89 Guest Street\, Boston\, MA 02135
DESCRIPTION:
DTSTART:20260424T230000Z
DTEND:20260425T010000Z
SUMMARY:Team Boxing League: Boston Butchers vs NYC Attitude
URL;VALUE=URI:https://www.axs.com/events/1415993/team-boxing-league-boston-butchers-vs-nyc-attitude-tickets
DTSTAMP:20260420T213752Z
UID:69e69cb078473
END:VEVENT
END:VCALENDAR
